Package: clusterSeq Version: 1.32.0 Command: /home/biocbuild/bbs-3.21-bioc/R/bin/R CMD build --keep-empty-dirs --no-resave-data clusterSeq StartedAt: 2025-09-28 17:02:58 -0400 (Sun, 28 Sep 2025) EndedAt: 2025-09-28 17:03:50 -0400 (Sun, 28 Sep 2025) EllapsedTime: 52.1 seconds RetCode: 0 Status: OK PackageFile: clusterSeq_1.32.0.tar.gz PackageFileSize: 1.009 MiB