Package: clusterSeq Version: 1.32.0 Command: /home/biocbuild/R/R/bin/R CMD check --install=check:clusterSeq.install-out.txt --library=/home/biocbuild/R/R/site-library --no-vignettes --timings clusterSeq_1.32.0.tar.gz StartedAt: 2025-10-14 07:36:28 -0000 (Tue, 14 Oct 2025) EndedAt: 2025-10-14 07:41:47 -0000 (Tue, 14 Oct 2025) EllapsedTime: 319.3 seconds RetCode: 0 Status: OK CheckDir: clusterSeq.Rcheck Warnings: 0