Package: clusterSeq Version: 1.34.0 Command: /Library/Frameworks/R.framework/Resources/bin/R CMD check --install=check:clusterSeq.install-out.txt --library=/Library/Frameworks/R.framework/Resources/library --no-vignettes --timings clusterSeq_1.34.0.tar.gz StartedAt: 2025-11-10 19:18:33 -0500 (Mon, 10 Nov 2025) EndedAt: 2025-11-10 19:19:49 -0500 (Mon, 10 Nov 2025) EllapsedTime: 75.9 seconds RetCode: 0 Status: OK CheckDir: clusterSeq.Rcheck Warnings: 0