Package: clusterProfiler Version: 4.18.1 Command: /home/biocbuild/R/R/bin/R CMD INSTALL clusterProfiler StartedAt: 2025-11-10 21:59:45 -0000 (Mon, 10 Nov 2025) EndedAt: 2025-11-10 22:00:20 -0000 (Mon, 10 Nov 2025) EllapsedTime: 34.9 seconds RetCode: 0 Status: OK