Package: clusterProfiler Version: 4.18.1 Command: /home/biocbuild/R/R/bin/R CMD build --keep-empty-dirs --no-resave-data clusterProfiler StartedAt: 2025-11-11 00:33:36 -0000 (Tue, 11 Nov 2025) EndedAt: 2025-11-11 00:34:12 -0000 (Tue, 11 Nov 2025) EllapsedTime: 36.0 seconds RetCode: 0 Status: OK PackageFile: clusterProfiler_4.18.1.tar.gz PackageFileSize: 612 KiB