Package: clusterProfiler Version: 4.18.1 Command: /home/biocbuild/bbs-3.22-bioc/R/bin/R CMD check --install=check:clusterProfiler.install-out.txt --library=/home/biocbuild/bbs-3.22-bioc/R/site-library --timings clusterProfiler_4.18.1.tar.gz StartedAt: 2025-11-11 22:18:09 -0500 (Tue, 11 Nov 2025) EndedAt: 2025-11-11 22:21:46 -0500 (Tue, 11 Nov 2025) EllapsedTime: 217.2 seconds RetCode: 0 Status: OK CheckDir: clusterProfiler.Rcheck Warnings: 0