Package: clusterProfiler Version: 4.18.1 Command: /home/biocbuild/bbs-3.22-bioc/R/bin/R CMD build --keep-empty-dirs --no-resave-data --md5 clusterProfiler StartedAt: 2025-11-11 16:57:50 -0500 (Tue, 11 Nov 2025) EndedAt: 2025-11-11 16:58:16 -0500 (Tue, 11 Nov 2025) EllapsedTime: 26.0 seconds RetCode: 0 Status: OK PackageFile: clusterProfiler_4.18.1.tar.gz PackageFileSize: 613.5 KiB