Package: clusterProfiler Version: 4.16.0 Command: /home/biocbuild/bbs-3.21-bioc/R/bin/R CMD INSTALL clusterProfiler StartedAt: 2025-09-28 16:01:04 -0400 (Sun, 28 Sep 2025) EndedAt: 2025-09-28 16:01:28 -0400 (Sun, 28 Sep 2025) EllapsedTime: 23.9 seconds RetCode: 0 Status: OK