Package: clusterExperiment Version: 2.30.0 Command: /home/biocbuild/bbs-3.22-bioc/R/bin/R CMD check --install=check:clusterExperiment.install-out.txt --library=/home/biocbuild/bbs-3.22-bioc/R/site-library --timings clusterExperiment_2.30.0.tar.gz StartedAt: 2025-11-11 22:17:24 -0500 (Tue, 11 Nov 2025) EndedAt: 2025-11-11 22:35:24 -0500 (Tue, 11 Nov 2025) EllapsedTime: 1079.1 seconds RetCode: 0 Status: WARNINGS CheckDir: clusterExperiment.Rcheck Warnings: 2