Package: clusterExperiment Version: 2.28.0 Command: /Library/Frameworks/R.framework/Resources/bin/R CMD INSTALL clusterExperiment StartedAt: 2025-04-21 15:28:29 -0400 (Mon, 21 Apr 2025) EndedAt: 2025-04-21 15:28:58 -0400 (Mon, 21 Apr 2025) EllapsedTime: 28.9 seconds RetCode: 0 Status: OK