Package: clusterExperiment Version: 2.28.1 Command: /Library/Frameworks/R.framework/Resources/bin/R CMD INSTALL clusterExperiment StartedAt: 2025-09-25 18:11:53 -0400 (Thu, 25 Sep 2025) EndedAt: 2025-09-25 18:13:21 -0400 (Thu, 25 Sep 2025) EllapsedTime: 88.0 seconds RetCode: 0 Status: OK