Package: clustSIGNAL Version: 1.2.0 Command: /home/biocbuild/R/R/bin/R CMD check --install=check:clustSIGNAL.install-out.txt --library=/home/biocbuild/R/R/site-library --no-vignettes --timings clustSIGNAL_1.2.0.tar.gz StartedAt: 2025-11-18 08:21:18 -0000 (Tue, 18 Nov 2025) EndedAt: 2025-11-18 08:26:07 -0000 (Tue, 18 Nov 2025) EllapsedTime: 288.3 seconds RetCode: 0 Status: OK CheckDir: clustSIGNAL.Rcheck Warnings: 0