Package: clustSIGNAL Version: 1.2.0 Command: /home/biocbuild/R/R/bin/R CMD build --keep-empty-dirs --no-resave-data clustSIGNAL StartedAt: 2025-11-11 00:34:19 -0000 (Tue, 11 Nov 2025) EndedAt: 2025-11-11 00:36:22 -0000 (Tue, 11 Nov 2025) EllapsedTime: 123.1 seconds RetCode: 0 Status: OK PackageFile: clustSIGNAL_1.2.0.tar.gz PackageFileSize: 4.029 MiB