Package: clustSIGNAL Version: 1.0.0 Command: rm -rf clustSIGNAL.buildbin-libdir && mkdir clustSIGNAL.buildbin-libdir && E:\biocbuild\bbs-3.21-bioc\R\bin\R.exe CMD INSTALL --build --library=clustSIGNAL.buildbin-libdir clustSIGNAL_1.0.0.tar.gz StartedAt: 2025-08-15 09:01:00 -0400 (Fri, 15 Aug 2025) EndedAt: 2025-08-15 09:01:40 -0400 (Fri, 15 Aug 2025) EllapsedTime: 39.9 seconds RetCode: 0 Status: OK PackageFile: clustSIGNAL_1.0.0.zip PackageFileSize: 4.393 MiB