Package: clustSIGNAL Version: 1.2.0 Command: /home/biocbuild/bbs-3.22-bioc/R/bin/R CMD INSTALL clustSIGNAL StartedAt: 2025-11-11 16:01:57 -0500 (Tue, 11 Nov 2025) EndedAt: 2025-11-11 16:02:31 -0500 (Tue, 11 Nov 2025) EllapsedTime: 33.8 seconds RetCode: 0 Status: OK