Package: clustSIGNAL Version: 1.0.0 Command: /home/biocbuild/R/R/bin/R CMD check --install=check:clustSIGNAL.install-out.txt --library=/home/biocbuild/R/R/site-library --no-vignettes --timings clustSIGNAL_1.0.0.tar.gz StartedAt: 2025-10-14 07:37:30 -0000 (Tue, 14 Oct 2025) EndedAt: 2025-10-14 07:42:34 -0000 (Tue, 14 Oct 2025) EllapsedTime: 304.3 seconds RetCode: 0 Status: OK CheckDir: clustSIGNAL.Rcheck Warnings: 0