Package: clustSIGNAL Version: 1.0.0 Command: /home/biocbuild/R/R/bin/R CMD build --keep-empty-dirs --no-resave-data clustSIGNAL StartedAt: 2025-09-25 23:49:50 -0000 (Thu, 25 Sep 2025) EndedAt: 2025-09-25 23:52:02 -0000 (Thu, 25 Sep 2025) EllapsedTime: 132.0 seconds RetCode: 0 Status: OK PackageFile: clustSIGNAL_1.0.0.tar.gz PackageFileSize: 4.555 MiB