Package: clustSIGNAL Version: 1.0.0 Command: /Library/Frameworks/R.framework/Resources/bin/R CMD build --keep-empty-dirs --no-resave-data clustSIGNAL StartedAt: 2025-09-25 21:35:08 -0400 (Thu, 25 Sep 2025) EndedAt: 2025-09-25 21:37:10 -0400 (Thu, 25 Sep 2025) EllapsedTime: 121.8 seconds RetCode: 0 Status: OK PackageFile: clustSIGNAL_1.0.0.tar.gz PackageFileSize: 4.587 MiB