Package: clustComp Version: 1.38.0 Command: /home/biocbuild/bbs-3.22-bioc/R/bin/R CMD build --keep-empty-dirs --no-resave-data --md5 clustComp StartedAt: 2025-11-11 16:57:16 -0500 (Tue, 11 Nov 2025) EndedAt: 2025-11-11 16:58:16 -0500 (Tue, 11 Nov 2025) EllapsedTime: 60.1 seconds RetCode: 0 Status: OK PackageFile: clustComp_1.38.0.tar.gz PackageFileSize: 932 KiB