Package: clustComp Version: 1.36.0 Command: /home/biocbuild/R/R/bin/R CMD check --install=check:clustComp.install-out.txt --library=/home/biocbuild/R/R/site-library --no-vignettes --timings clustComp_1.36.0.tar.gz StartedAt: 2025-09-30 08:10:01 -0000 (Tue, 30 Sep 2025) EndedAt: 2025-09-30 08:10:27 -0000 (Tue, 30 Sep 2025) EllapsedTime: 26.0 seconds RetCode: 0 Status: OK CheckDir: clustComp.Rcheck Warnings: 0