Package: clustComp Version: 1.36.0 Command: /Library/Frameworks/R.framework/Resources/bin/R CMD check --install=check:clustComp.install-out.txt --library=/Library/Frameworks/R.framework/Resources/library --no-vignettes --timings clustComp_1.36.0.tar.gz StartedAt: 2025-10-07 17:48:13 -0400 (Tue, 07 Oct 2025) EndedAt: 2025-10-07 17:48:47 -0400 (Tue, 07 Oct 2025) EllapsedTime: 34.7 seconds RetCode: 0 Status: OK CheckDir: clustComp.Rcheck Warnings: 0