Package: clstutils Version: 1.58.0 Command: /home/biocbuild/R/R/bin/R CMD INSTALL clstutils StartedAt: 2025-11-13 21:10:03 -0000 (Thu, 13 Nov 2025) EndedAt: 2025-11-13 21:11:06 -0000 (Thu, 13 Nov 2025) EllapsedTime: 62.4 seconds RetCode: 0 Status: OK