Package: clstutils Version: 1.58.0 Command: /home/biocbuild/R/R/bin/R CMD build --keep-empty-dirs --no-resave-data clstutils StartedAt: 2025-11-11 00:32:48 -0000 (Tue, 11 Nov 2025) EndedAt: 2025-11-11 00:33:05 -0000 (Tue, 11 Nov 2025) EllapsedTime: 17.0 seconds RetCode: 0 Status: OK PackageFile: clstutils_1.58.0.tar.gz PackageFileSize: 2.68 MiB