Package: clstutils Version: 1.58.0 Command: /home/biocbuild/bbs-3.22-bioc/R/bin/R CMD check --install=check:clstutils.install-out.txt --library=/home/biocbuild/bbs-3.22-bioc/R/site-library --timings clstutils_1.58.0.tar.gz StartedAt: 2025-11-11 22:16:24 -0500 (Tue, 11 Nov 2025) EndedAt: 2025-11-11 22:17:24 -0500 (Tue, 11 Nov 2025) EllapsedTime: 60.0 seconds RetCode: 0 Status: WARNINGS CheckDir: clstutils.Rcheck Warnings: 1