Package: clstutils Version: 1.56.0 Command: /home/biocbuild/bbs-3.21-bioc/R/bin/R CMD INSTALL clstutils StartedAt: 2025-10-01 15:09:36 -0400 (Wed, 01 Oct 2025) EndedAt: 2025-10-01 15:10:08 -0400 (Wed, 01 Oct 2025) EllapsedTime: 32.4 seconds RetCode: 0 Status: OK