Package: clstutils Version: 1.56.0 Command: /home/biocbuild/bbs-3.21-bioc/R/bin/R CMD build --keep-empty-dirs --no-resave-data clstutils StartedAt: 2025-10-01 16:50:11 -0400 (Wed, 01 Oct 2025) EndedAt: 2025-10-01 16:50:26 -0400 (Wed, 01 Oct 2025) EllapsedTime: 15.0 seconds RetCode: 0 Status: OK PackageFile: clstutils_1.56.0.tar.gz PackageFileSize: 2.694 MiB