Package: clstutils Version: 1.56.0 Command: rm -rf clstutils.buildbin-libdir && mkdir clstutils.buildbin-libdir && /Users/biocbuild/BBS/utils/build-universal.sh clstutils_1.56.0.tar.gz /Library/Frameworks/R.framework/Resources/bin/R clstutils.buildbin-libdir StartedAt: 2025-10-14 13:04:17 -0400 (Tue, 14 Oct 2025) EndedAt: 2025-10-14 13:04:32 -0400 (Tue, 14 Oct 2025) EllapsedTime: 14.4 seconds RetCode: 0 Status: OK PackageFile: clstutils_1.56.0.tgz PackageFileSize: 2.727 MiB