Package: clstutils Version: 1.56.0 Command: /home/biocbuild/R/R/bin/R CMD build --keep-empty-dirs --no-resave-data clstutils StartedAt: 2025-09-25 23:47:58 -0000 (Thu, 25 Sep 2025) EndedAt: 2025-09-25 23:48:16 -0000 (Thu, 25 Sep 2025) EllapsedTime: 18.0 seconds RetCode: 0 Status: OK PackageFile: clstutils_1.56.0.tar.gz PackageFileSize: 2.681 MiB