Package: clstutils Version: 1.56.0 Command: /Library/Frameworks/R.framework/Resources/bin/R CMD INSTALL clstutils StartedAt: 2025-10-02 15:20:28 -0400 (Thu, 02 Oct 2025) EndedAt: 2025-10-02 15:20:43 -0400 (Thu, 02 Oct 2025) EllapsedTime: 15.2 seconds RetCode: 0 Status: OK