Package: clstutils Version: 1.56.0 Command: /Library/Frameworks/R.framework/Resources/bin/R CMD build --keep-empty-dirs --no-resave-data clstutils StartedAt: 2025-10-02 21:28:02 -0400 (Thu, 02 Oct 2025) EndedAt: 2025-10-02 21:28:31 -0400 (Thu, 02 Oct 2025) EllapsedTime: 29.3 seconds RetCode: 0 Status: OK PackageFile: clstutils_1.56.0.tar.gz PackageFileSize: 2.694 MiB