Package: clst Version: 1.58.0 Command: /home/biocbuild/bbs-3.22-bioc/R/bin/R CMD INSTALL clst StartedAt: 2025-11-11 15:10:02 -0500 (Tue, 11 Nov 2025) EndedAt: 2025-11-11 15:10:29 -0500 (Tue, 11 Nov 2025) EllapsedTime: 27.4 seconds RetCode: 0 Status: OK