Package: clst Version: 1.58.0 Command: /home/biocbuild/bbs-3.22-bioc/R/bin/R CMD check --install=check:clst.install-out.txt --library=/home/biocbuild/bbs-3.22-bioc/R/site-library --timings clst_1.58.0.tar.gz StartedAt: 2025-11-11 22:16:20 -0500 (Tue, 11 Nov 2025) EndedAt: 2025-11-11 22:16:59 -0500 (Tue, 11 Nov 2025) EllapsedTime: 39.0 seconds RetCode: 0 Status: WARNINGS CheckDir: clst.Rcheck Warnings: 1