Package: clst Version: 1.58.0 Command: /home/biocbuild/bbs-3.22-bioc/R/bin/R CMD build --keep-empty-dirs --no-resave-data --md5 clst StartedAt: 2025-11-11 16:57:01 -0500 (Tue, 11 Nov 2025) EndedAt: 2025-11-11 16:57:16 -0500 (Tue, 11 Nov 2025) EllapsedTime: 15.0 seconds RetCode: 0 Status: OK PackageFile: clst_1.58.0.tar.gz PackageFileSize: 1.019 MiB