Package: clst Version: 1.56.0 Command: /home/biocbuild/bbs-3.21-bioc/R/bin/R CMD INSTALL clst StartedAt: 2025-10-15 15:05:27 -0400 (Wed, 15 Oct 2025) EndedAt: 2025-10-15 15:05:55 -0400 (Wed, 15 Oct 2025) EllapsedTime: 27.2 seconds RetCode: 0 Status: OK