Package: clst Version: 1.56.0 Command: rm -rf clst.buildbin-libdir && mkdir clst.buildbin-libdir && /Users/biocbuild/BBS/utils/build-universal.sh clst_1.56.0.tar.gz /Library/Frameworks/R.framework/Resources/bin/R clst.buildbin-libdir StartedAt: 2025-10-15 17:53:13 -0400 (Wed, 15 Oct 2025) EndedAt: 2025-10-15 17:53:19 -0400 (Wed, 15 Oct 2025) EllapsedTime: 5.7 seconds RetCode: 0 Status: OK PackageFile: clst_1.56.0.tgz PackageFileSize: 1.658 MiB