Package: cliqueMS Version: 1.24.0 Command: /home/biocbuild/bbs-3.22-bioc/R/bin/R CMD check --install=check:cliqueMS.install-out.txt --library=/home/biocbuild/bbs-3.22-bioc/R/site-library --timings cliqueMS_1.24.0.tar.gz StartedAt: 2025-11-14 22:16:37 -0500 (Fri, 14 Nov 2025) EndedAt: 2025-11-14 22:23:05 -0500 (Fri, 14 Nov 2025) EllapsedTime: 387.4 seconds RetCode: 0 Status: OK CheckDir: cliqueMS.Rcheck Warnings: 0