Package: cliqueMS Version: 1.24.0 Command: /home/biocbuild/bbs-3.22-bioc/R/bin/R CMD build --keep-empty-dirs --no-resave-data --md5 cliqueMS StartedAt: 2025-11-11 16:56:42 -0500 (Tue, 11 Nov 2025) EndedAt: 2025-11-11 16:58:13 -0500 (Tue, 11 Nov 2025) EllapsedTime: 91.1 seconds RetCode: 0 Status: OK PackageFile: cliqueMS_1.24.0.tar.gz PackageFileSize: 557.4 KiB