Package: cliqueMS Version: 1.24.0 Command: /Library/Frameworks/R.framework/Resources/bin/R CMD INSTALL cliqueMS StartedAt: 2025-11-03 15:36:13 -0500 (Mon, 03 Nov 2025) EndedAt: 2025-11-03 15:37:39 -0500 (Mon, 03 Nov 2025) EllapsedTime: 86.1 seconds RetCode: 0 Status: OK