Package: cliqueMS Version: 1.22.0 Command: /home/biocbuild/R/R/bin/R CMD INSTALL cliqueMS StartedAt: 2025-10-09 21:01:21 -0000 (Thu, 09 Oct 2025) EndedAt: 2025-10-09 21:03:02 -0000 (Thu, 09 Oct 2025) EllapsedTime: 100.9 seconds RetCode: 0 Status: OK