Package: cliqueMS Version: 1.22.0 Command: /home/biocbuild/R/R/bin/R CMD build --keep-empty-dirs --no-resave-data cliqueMS StartedAt: 2025-10-09 23:39:13 -0000 (Thu, 09 Oct 2025) EndedAt: 2025-10-09 23:41:29 -0000 (Thu, 09 Oct 2025) EllapsedTime: 136.1 seconds RetCode: 0 Status: OK PackageFile: cliqueMS_1.22.0.tar.gz PackageFileSize: 557.3 KiB