Package: clipper Version: 1.50.0 Command: /home/biocbuild/bbs-3.22-bioc/R/bin/R CMD INSTALL clipper StartedAt: 2025-11-13 15:45:21 -0500 (Thu, 13 Nov 2025) EndedAt: 2025-11-13 15:46:03 -0500 (Thu, 13 Nov 2025) EllapsedTime: 42.0 seconds RetCode: 0 Status: OK