Package: clipper Version: 1.48.0 Command: /home/biocbuild/bbs-3.21-bioc/R/bin/R CMD INSTALL clipper StartedAt: 2025-10-15 15:42:37 -0400 (Wed, 15 Oct 2025) EndedAt: 2025-10-15 15:43:17 -0400 (Wed, 15 Oct 2025) EllapsedTime: 39.3 seconds RetCode: 0 Status: OK