Package: clipper Version: 1.50.0 Command: /Library/Frameworks/R.framework/Resources/bin/R CMD INSTALL clipper StartedAt: 2025-11-02 15:46:55 -0500 (Sun, 02 Nov 2025) EndedAt: 2025-11-02 15:47:47 -0500 (Sun, 02 Nov 2025) EllapsedTime: 52.3 seconds RetCode: 0 Status: OK