Package: clipper Version: 1.50.0 Command: /Library/Frameworks/R.framework/Resources/bin/R CMD build --keep-empty-dirs --no-resave-data clipper StartedAt: 2025-11-03 16:29:41 -0500 (Mon, 03 Nov 2025) EndedAt: 2025-11-03 16:31:03 -0500 (Mon, 03 Nov 2025) EllapsedTime: 82.1 seconds RetCode: 0 Status: OK PackageFile: clipper_1.50.0.tar.gz PackageFileSize: 1006 KiB