Package: clipper Version: 1.48.0 Command: /home/biocbuild/R/R/bin/R CMD INSTALL clipper StartedAt: 2025-10-09 20:59:42 -0000 (Thu, 09 Oct 2025) EndedAt: 2025-10-09 21:00:37 -0000 (Thu, 09 Oct 2025) EllapsedTime: 55.4 seconds RetCode: 0 Status: OK