Package: clipper Version: 1.48.0 Command: /home/biocbuild/R/R/bin/R CMD build --keep-empty-dirs --no-resave-data clipper StartedAt: 2025-10-09 23:39:02 -0000 (Thu, 09 Oct 2025) EndedAt: 2025-10-09 23:40:47 -0000 (Thu, 09 Oct 2025) EllapsedTime: 105.1 seconds RetCode: 0 Status: OK PackageFile: clipper_1.48.0.tar.gz PackageFileSize: 998.7 KiB