Package: clippda Version: 1.60.0 Command: /Library/Frameworks/R.framework/Resources/bin/R CMD build --keep-empty-dirs --no-resave-data clippda StartedAt: 2025-11-10 15:57:06 -0500 (Mon, 10 Nov 2025) EndedAt: 2025-11-10 15:57:46 -0500 (Mon, 10 Nov 2025) EllapsedTime: 39.5 seconds RetCode: 0 Status: OK PackageFile: clippda_1.60.0.tar.gz PackageFileSize: 1.496 MiB