Package: clippda Version: 1.60.0 Command: rm -rf clippda.buildbin-libdir && mkdir clippda.buildbin-libdir && /Users/biocbuild/BBS/utils/build-universal.sh clippda_1.60.0.tar.gz /Library/Frameworks/R.framework/Resources/bin/R clippda.buildbin-libdir StartedAt: 2025-11-10 23:15:03 -0500 (Mon, 10 Nov 2025) EndedAt: 2025-11-10 23:15:07 -0500 (Mon, 10 Nov 2025) EllapsedTime: 4.1 seconds RetCode: 0 Status: OK PackageFile: clippda_1.60.0.tgz PackageFileSize: 1.749 MiB