Package: cliProfiler Version: 1.16.0 Command: /home/biocbuild/R/R/bin/R CMD build --keep-empty-dirs --no-resave-data cliProfiler StartedAt: 2025-11-11 00:32:14 -0000 (Tue, 11 Nov 2025) EndedAt: 2025-11-11 00:34:00 -0000 (Tue, 11 Nov 2025) EllapsedTime: 106.1 seconds RetCode: 0 Status: OK PackageFile: cliProfiler_1.16.0.tar.gz PackageFileSize: 840.6 KiB