Package: clevRvis Version: 1.10.0 Command: /Library/Frameworks/R.framework/Resources/bin/R CMD INSTALL clevRvis StartedAt: 2025-11-10 15:05:53 -0500 (Mon, 10 Nov 2025) EndedAt: 2025-11-10 15:05:57 -0500 (Mon, 10 Nov 2025) EllapsedTime: 4.3 seconds RetCode: 0 Status: OK